BEGIN:VCALENDAR
VERSION:2.0
PRODID:-//hacksw/handcal//NONSGML v1.0//EN
CALSCALE:GREGORIAN
BEGIN:VEVENT
UID:69eb50448f0b5
DTSTAMP:20260424T111308Z
DESCRIPTION:[L] Ohio Wesleyan University Men's Basketball at OberlinL 62-71Streaming Video: https://oberlinsportsnetwork.com/
SUMMARY:Ohio Wesleyan University Men's Basketball at Oberlin
DTSTART:20250104T190000Z
DTEND:20250104T210000Z
END:VEVENT
END:VCALENDAR
