BEGIN:VCALENDAR
VERSION:2.0
PRODID:-//hacksw/handcal//NONSGML v1.0//EN
CALSCALE:GREGORIAN
BEGIN:VEVENT
UID:69e8b69fc9405
DTSTAMP:20260422T115303Z
DESCRIPTION:[L] Ohio Wesleyan University Men's Basketball at OtterbeinL 65-73Streaming Video: https://boxcast.tv/view/mbb-otterbein-vs-ohio-wesleyan-2023-pqrtbs8met41gtbvmtyq?_gl=1*15eqo8q*_ga*MTYyODQ5MjgzNy4xNjI4MDA0MDA0*_ga_PXBBF7HVWQ*MTY5NjI2MDkwMy4yNzEuMS4xNjk2MjYyODIxLjAuMC4w https://www.battlingbishops.com/calendar.aspx?game_id=8556&amp\;sport_id=5
SUMMARY:Ohio Wesleyan University Men's Basketball at Otterbein
DTSTART:20231118T190000Z
DTEND:20231118T210000Z
END:VEVENT
END:VCALENDAR
