BEGIN:VCALENDAR
VERSION:2.0
PRODID:-//hacksw/handcal//NONSGML v1.0//EN
CALSCALE:GREGORIAN
BEGIN:VEVENT
UID:69e8787c0d075
DTSTAMP:20260422T072756Z
DESCRIPTION:[L] Ohio Wesleyan University Men's Basketball at TrineL 58-93Streaming Video: https://vimeo.com/trinebroadcasting https://www.battlingbishops.com/calendar.aspx?game_id=8558&amp\;sport_id=5
SUMMARY:Ohio Wesleyan University Men's Basketball at Trine
DTSTART:20231125T190000Z
DTEND:20231125T210000Z
END:VEVENT
END:VCALENDAR
