BEGIN:VCALENDAR
VERSION:2.0
PRODID:-//hacksw/handcal//NONSGML v1.0//EN
CALSCALE:GREGORIAN
BEGIN:VEVENT
UID:69e83df9d24aa
DTSTAMP:20260422T031817Z
DESCRIPTION:[L] Ohio Wesleyan University Men's Basketball at WoosterL 42-79Streaming Video: https://northcoastnetwork.com/wooster/ https://www.battlingbishops.com/calendar.aspx?game_id=8559&amp\;sport_id=5
SUMMARY:Ohio Wesleyan University Men's Basketball at Wooster
DTSTART:20231130T000000Z
DTEND:20231130T020000Z
END:VEVENT
END:VCALENDAR
