BEGIN:VCALENDAR
VERSION:2.0
PRODID:-//hacksw/handcal//NONSGML v1.0//EN
CALSCALE:GREGORIAN
BEGIN:VEVENT
UID:69e8f35f1e9c2
DTSTAMP:20260422T161215Z
DESCRIPTION:[W] Ohio Wesleyan University Men's Basketball vs AlbionW 67-56Streaming Video: https://www.northcoastnetwork.com/ohiowesleyan/ https://www.battlingbishops.com/calendar.aspx?game_id=8555&amp\;sport_id=5
SUMMARY:Ohio Wesleyan University Men's Basketball vs Albion
DTSTART:20231116T000000Z
DTEND:20231116T020000Z
END:VEVENT
END:VCALENDAR
