BEGIN:VCALENDAR
VERSION:2.0
PRODID:-//hacksw/handcal//NONSGML v1.0//EN
CALSCALE:GREGORIAN
BEGIN:VEVENT
UID:69e91f1833600
DTSTAMP:20260422T191848Z
DESCRIPTION:[W] Ohio Wesleyan University Men's Basketball vs BatesW 89-78Streaming Video: https://athletics.uchicago.edu/sports/2023/7/21/m-basketball-live-video.aspx
SUMMARY:Ohio Wesleyan University Men's Basketball vs Bates
DTSTART:20241117T200000Z
DTEND:20241117T220000Z
END:VEVENT
END:VCALENDAR
