BEGIN:VCALENDAR
VERSION:2.0
PRODID:-//hacksw/handcal//NONSGML v1.0//EN
CALSCALE:GREGORIAN
BEGIN:VEVENT
UID:69e908c590437
DTSTAMP:20260422T174333Z
DESCRIPTION:Ohio Wesleyan University Men's Basketball vs Bates vs. ChicagoStreaming Video: https://athletics.uchicago.edu/sports/2023/7/21/m-basketball-live-video.aspx
SUMMARY:Ohio Wesleyan University Men's Basketball vs Bates vs. Chicago
DTSTART:20241116T180000Z
DTEND:20241116T200000Z
END:VEVENT
END:VCALENDAR
