BEGIN:VCALENDAR
VERSION:2.0
PRODID:-//hacksw/handcal//NONSGML v1.0//EN
CALSCALE:GREGORIAN
BEGIN:VEVENT
UID:69e88f0111a13
DTSTAMP:20260422T090401Z
DESCRIPTION:[L] Ohio Wesleyan University Men's Basketball vs CapitalL 78-81Streaming Video: https://www.northcoastnetwork.com/ohiowesleyan/ https://www.battlingbishops.com/calendar.aspx?game_id=8557&amp\;sport_id=5
SUMMARY:Ohio Wesleyan University Men's Basketball vs Capital
DTSTART:20231121T230000Z
DTEND:20231122T010000Z
END:VEVENT
END:VCALENDAR
