BEGIN:VCALENDAR
VERSION:2.0
PRODID:-//hacksw/handcal//NONSGML v1.0//EN
CALSCALE:GREGORIAN
BEGIN:VEVENT
UID:69e91f3824e43
DTSTAMP:20260422T191920Z
DESCRIPTION:Ohio Wesleyan University Men's Basketball vs championship gameStreaming Video: https://athletics.uchicago.edu/sports/2023/7/21/m-basketball-live-video.aspx
SUMMARY:Ohio Wesleyan University Men's Basketball vs championship game
DTSTART:20241117T220000Z
DTEND:20241118T000000Z
END:VEVENT
END:VCALENDAR
