BEGIN:VCALENDAR
VERSION:2.0
PRODID:-//hacksw/handcal//NONSGML v1.0//EN
CALSCALE:GREGORIAN
BEGIN:VEVENT
UID:69e7be79581ce
DTSTAMP:20260421T181417Z
DESCRIPTION:[W] Ohio Wesleyan University Men's Basketball vs HiramW 98-90Streaming Video: https://www.northcoastnetwork.com/ohiowesleyan/ https://www.battlingbishops.com/calendar.aspx?game_id=8561&amp\;sport_id=5
SUMMARY:Ohio Wesleyan University Men's Basketball vs Hiram
DTSTART:20231207T000000Z
DTEND:20231207T020000Z
END:VEVENT
END:VCALENDAR
