BEGIN:VCALENDAR
VERSION:2.0
PRODID:-//hacksw/handcal//NONSGML v1.0//EN
CALSCALE:GREGORIAN
BEGIN:VEVENT
UID:69eb771064e98
DTSTAMP:20260424T135840Z
DESCRIPTION:[W] Ohio Wesleyan University Men's Basketball vs HiramW 88-68Streaming Video: https://www.northcoastnetwork.com/ohiowesleyan/
SUMMARY:Ohio Wesleyan University Men's Basketball vs Hiram
DTSTART:20250109T000000Z
DTEND:20250109T020000Z
END:VEVENT
END:VCALENDAR
