BEGIN:VCALENDAR
VERSION:2.0
PRODID:-//hacksw/handcal//NONSGML v1.0//EN
CALSCALE:GREGORIAN
BEGIN:VEVENT
UID:69ea22f97c7b0
DTSTAMP:20260423T134737Z
DESCRIPTION:[W] Ohio Wesleyan University Men's Basketball vs KenyonW 84-73Streaming Video: https://www.northcoastnetwork.com/ohiowesleyan/
SUMMARY:Ohio Wesleyan University Men's Basketball vs Kenyon
DTSTART:20241205T010000Z
DTEND:20241205T030000Z
END:VEVENT
END:VCALENDAR
