BEGIN:VCALENDAR
VERSION:2.0
PRODID:-//hacksw/handcal//NONSGML v1.0//EN
CALSCALE:GREGORIAN
BEGIN:VEVENT
UID:69e85f97792a3
DTSTAMP:20260422T054143Z
DESCRIPTION:[W] Ohio Wesleyan University Men's Basketball vs La RocheW 70-63Streaming Video: https://www.northcoastnetwork.com/ohiowesleyan/
SUMMARY:Ohio Wesleyan University Men's Basketball vs La Roche
DTSTART:20241112T000000Z
DTEND:20241112T020000Z
END:VEVENT
END:VCALENDAR
