BEGIN:VCALENDAR
VERSION:2.0
PRODID:-//hacksw/handcal//NONSGML v1.0//EN
CALSCALE:GREGORIAN
BEGIN:VEVENT
UID:69eaeab98db51
DTSTAMP:20260424T035953Z
DESCRIPTION:[W] Ohio Wesleyan University Men's Basketball vs Lancaster BibleW 79-67Streaming Video: https://www.youtube.com/@welchflames/streams
SUMMARY:Ohio Wesleyan University Men's Basketball vs Lancaster Bible
DTSTART:20241219T210000Z
DTEND:20241219T230000Z
END:VEVENT
END:VCALENDAR
