BEGIN:VCALENDAR
VERSION:2.0
PRODID:-//hacksw/handcal//NONSGML v1.0//EN
CALSCALE:GREGORIAN
BEGIN:VEVENT
UID:69ecfb9c64e01
DTSTAMP:20260425T173628Z
DESCRIPTION:[W] Ohio Wesleyan University Men's Basketball vs OberlinW 78-64Streaming Video: https://www.northcoastnetwork.com/ohiowesleyan/
SUMMARY:Ohio Wesleyan University Men's Basketball vs Oberlin
DTSTART:20250201T200000Z
DTEND:20250201T220000Z
END:VEVENT
END:VCALENDAR
