BEGIN:VCALENDAR
VERSION:2.0
PRODID:-//hacksw/handcal//NONSGML v1.0//EN
CALSCALE:GREGORIAN
BEGIN:VEVENT
UID:69e9ac66a758a
DTSTAMP:20260423T052142Z
DESCRIPTION:[L] Ohio Wesleyan University Men's Basketball vs OtterbeinL 59-63Streaming Video: https://www.northcoastnetwork.com/ohiowesleyan/
SUMMARY:Ohio Wesleyan University Men's Basketball vs Otterbein
DTSTART:20241123T180000Z
DTEND:20241123T200000Z
END:VEVENT
END:VCALENDAR
