BEGIN:VCALENDAR
VERSION:2.0
PRODID:-//hacksw/handcal//NONSGML v1.0//EN
CALSCALE:GREGORIAN
BEGIN:VEVENT
UID:69e908f9189e0
DTSTAMP:20260422T174425Z
DESCRIPTION:[L] Ohio Wesleyan University Men's Basketball vs TransylvaniaL 74-82Streaming Video: https://athletics.uchicago.edu/sports/2023/7/21/m-basketball-live-video.aspx
SUMMARY:Ohio Wesleyan University Men's Basketball vs Transylvania
DTSTART:20241116T200000Z
DTEND:20241116T220000Z
END:VEVENT
END:VCALENDAR
