BEGIN:VCALENDAR
VERSION:2.0
PRODID:-//hacksw/handcal//NONSGML v1.0//EN
CALSCALE:GREGORIAN
BEGIN:VEVENT
UID:69e9e7a496820
DTSTAMP:20260423T093428Z
DESCRIPTION:[L] Ohio Wesleyan University Men's Basketball vs TrineL 82-86Streaming Video: https://www.northcoastnetwork.com/ohiowesleyan/
SUMMARY:Ohio Wesleyan University Men's Basketball vs Trine
DTSTART:20241130T200000Z
DTEND:20241130T220000Z
END:VEVENT
END:VCALENDAR
