BEGIN:VCALENDAR
VERSION:2.0
PRODID:-//hacksw/handcal//NONSGML v1.0//EN
CALSCALE:GREGORIAN
BEGIN:VEVENT
UID:69ebb52e5f369
DTSTAMP:20260424T182342Z
DESCRIPTION:[L] Ohio Wesleyan University Men's Basketball vs WabashL 70-78Streaming Video: https://www.northcoastnetwork.com/ohiowesleyan/
SUMMARY:Ohio Wesleyan University Men's Basketball vs Wabash
DTSTART:20250116T000000Z
DTEND:20250116T020000Z
END:VEVENT
END:VCALENDAR
