BEGIN:VCALENDAR
VERSION:2.0
PRODID:-//hacksw/handcal//NONSGML v1.0//EN
CALSCALE:GREGORIAN
BEGIN:VEVENT
UID:69e95f0b8f07c
DTSTAMP:20260422T235139Z
DESCRIPTION:[L] Ohio Wesleyan University Men's Basketball vs Wisconsin-StoutL 68-92Streaming Video: https://www.iwusports.com/watch/ https://www.battlingbishops.com/calendar.aspx?game_id=8553&amp\;sport_id=5
SUMMARY:Ohio Wesleyan University Men's Basketball vs Wisconsin-Stout
DTSTART:20231111T210000Z
DTEND:20231111T230000Z
END:VEVENT
END:VCALENDAR
