BEGIN:VCALENDAR
VERSION:2.0
PRODID:-//hacksw/handcal//NONSGML v1.0//EN
CALSCALE:GREGORIAN
BEGIN:VEVENT
UID:69e814b3a0302
DTSTAMP:20260422T002211Z
DESCRIPTION:[L] Ohio Wesleyan University Men's Basketball vs WittenbergL 80-85 (OT)Streaming Video: https://www.northcoastnetwork.com/ohiowesleyan/ https://www.battlingbishops.com/calendar.aspx?game_id=8560&amp\;sport_id=5
SUMMARY:Ohio Wesleyan University Men's Basketball vs Wittenberg
DTSTART:20231202T190000Z
DTEND:20231202T210000Z
END:VEVENT
END:VCALENDAR
