BEGIN:VCALENDAR
VERSION:2.0
PRODID:-//hacksw/handcal//NONSGML v1.0//EN
CALSCALE:GREGORIAN
BEGIN:VEVENT
UID:69ebf8bc21019
DTSTAMP:20260424T231156Z
DESCRIPTION:[W] Ohio Wesleyan University Men's Basketball vs WoosterW 73-58Streaming Video: https://www.northcoastnetwork.com/ohiowesleyan/
SUMMARY:Ohio Wesleyan University Men's Basketball vs Wooster
DTSTART:20250118T200000Z
DTEND:20250118T220000Z
END:VEVENT
END:VCALENDAR
