BEGIN:VCALENDAR
VERSION:2.0
PRODID:-//hacksw/handcal//NONSGML v1.0//EN
CALSCALE:GREGORIAN
BEGIN:VEVENT
UID:69e852ae74bcd
DTSTAMP:20260422T044638Z
DESCRIPTION:[N] Ohio Wesleyan University Men's Cross Country at All-Ohio Classic 18th of 29Streaming Video: https://greatmidwestdigitalnetwork.com/cedarvilleuniversity/
SUMMARY:Ohio Wesleyan University Men's Cross Country at All-Ohio Classic
DTSTART:20240920T224000Z
DTEND:20240921T014000Z
END:VEVENT
END:VCALENDAR
