BEGIN:VCALENDAR
VERSION:2.0
PRODID:-//hacksw/handcal//NONSGML v1.0//EN
CALSCALE:GREGORIAN
BEGIN:VEVENT
UID:69eba4efc6920
DTSTAMP:20260424T171423Z
DESCRIPTION:[N] Ohio Wesleyan University Men's Cross Country at Augustana Interregional Invitational 35th of 43 https://www.battlingbishops.com/calendar.aspx?game_id=8387&amp\;sport_id=6
SUMMARY:Ohio Wesleyan University Men's Cross Country at Augustana Interregional Invitational
DTSTART:20231014T160000Z
DTEND:20231014T190000Z
END:VEVENT
END:VCALENDAR
