BEGIN:VCALENDAR
VERSION:2.0
PRODID:-//hacksw/handcal//NONSGML v1.0//EN
CALSCALE:GREGORIAN
BEGIN:VEVENT
UID:69e984e509cfe
DTSTAMP:20260423T023309Z
DESCRIPTION:[N] Ohio Wesleyan University Men's Cross Country at Denison Invitational canceled\, weather
SUMMARY:Ohio Wesleyan University Men's Cross Country at Denison Invitational
DTSTART:20240906T220000Z
DTEND:20240907T010000Z
END:VEVENT
END:VCALENDAR
