BEGIN:VCALENDAR
VERSION:2.0
PRODID:-//hacksw/handcal//NONSGML v1.0//EN
CALSCALE:GREGORIAN
BEGIN:VEVENT
UID:69e95f6528ccc
DTSTAMP:20260422T235309Z
DESCRIPTION:[N] Ohio Wesleyan University Men's Cross Country at NCAA Division III Great Lakes Regional 23rd of 40Streaming Video: https://jcusports.com/sports/2013/8/29/fan_0829130037.aspx?id=583 https://www.battlingbishops.com/calendar.aspx?game_id=8389&amp\;sport_id=6
SUMMARY:Ohio Wesleyan University Men's Cross Country at NCAA Division III Great Lakes Regional
DTSTART:20231111T160000Z
DTEND:20231111T190000Z
END:VEVENT
END:VCALENDAR
