BEGIN:VCALENDAR
VERSION:2.0
PRODID:-//hacksw/handcal//NONSGML v1.0//EN
CALSCALE:GREGORIAN
BEGIN:VEVENT
UID:69ea8a6361709
DTSTAMP:20260423T210851Z
DESCRIPTION:[N] Ohio Wesleyan University Men's Cross Country at NCAC championship 8th of 9 https://www.battlingbishops.com/calendar.aspx?game_id=8388&amp\;sport_id=6
SUMMARY:Ohio Wesleyan University Men's Cross Country at NCAC championship
DTSTART:20231028T150000Z
DTEND:20231028T180000Z
END:VEVENT
END:VCALENDAR
