BEGIN:VCALENDAR
VERSION:2.0
PRODID:-//hacksw/handcal//NONSGML v1.0//EN
CALSCALE:GREGORIAN
BEGIN:VEVENT
UID:69e77f7acc2e5
DTSTAMP:20260421T134530Z
DESCRIPTION:[N] Ohio Wesleyan University Men's Cross Country at NCAC championship 7th of 9Streaming Video: https://vimeo.com/event/4675793
SUMMARY:Ohio Wesleyan University Men's Cross Country at NCAC championship
DTSTART:20241103T171500Z
DTEND:20241103T201500Z
END:VEVENT
END:VCALENDAR
