BEGIN:VCALENDAR
VERSION:2.0
PRODID:-//hacksw/handcal//NONSGML v1.0//EN
CALSCALE:GREGORIAN
BEGIN:VEVENT
UID:69ea0e89c1ad6
DTSTAMP:20260423T122025Z
DESCRIPTION:[N] Ohio Wesleyan University Men's Cross Country at Port Kenyon Opener 5th of 5
SUMMARY:Ohio Wesleyan University Men's Cross Country at Port Kenyon Opener
DTSTART:20240830T233000Z
DTEND:20240831T023000Z
END:VEVENT
END:VCALENDAR
