BEGIN:VCALENDAR
VERSION:2.0
PRODID:-//hacksw/handcal//NONSGML v1.0//EN
CALSCALE:GREGORIAN
BEGIN:VEVENT
UID:69eccf0352f56
DTSTAMP:20260425T142611Z
DESCRIPTION:[N] Ohio Wesleyan University Men's Cross Country vs OWU Invitational 8th of 17 https://www.battlingbishops.com/calendar.aspx?game_id=8386&amp\;sport_id=6
SUMMARY:Ohio Wesleyan University Men's Cross Country vs OWU Invitational
DTSTART:20230929T220000Z
DTEND:20230930T010000Z
END:VEVENT
END:VCALENDAR
