BEGIN:VCALENDAR
VERSION:2.0
PRODID:-//hacksw/handcal//NONSGML v1.0//EN
CALSCALE:GREGORIAN
BEGIN:VEVENT
UID:69e8b6990cf58
DTSTAMP:20260422T115257Z
DESCRIPTION:[N] Ohio Wesleyan University Men's Golf at JCU Donald Ross Invitational second round
SUMMARY:Ohio Wesleyan University Men's Golf at JCU Donald Ross Invitational
DTSTART:20240916
DTEND:20240916
END:VEVENT
END:VCALENDAR
