BEGIN:VCALENDAR
VERSION:2.0
PRODID:-//hacksw/handcal//NONSGML v1.0//EN
CALSCALE:GREGORIAN
BEGIN:VEVENT
UID:69e840c61aeec
DTSTAMP:20260422T033014Z
DESCRIPTION:[N] Ohio Wesleyan University Men's Golf at NCAA Region V Showcase first round
SUMMARY:Ohio Wesleyan University Men's Golf at NCAA Region V Showcase
DTSTART:20240921
DTEND:20240921
END:VEVENT
END:VCALENDAR
