BEGIN:VCALENDAR
VERSION:2.0
PRODID:-//hacksw/handcal//NONSGML v1.0//EN
CALSCALE:GREGORIAN
BEGIN:VEVENT
UID:69e82b319ee3f
DTSTAMP:20260422T015809Z
DESCRIPTION:[N] Ohio Wesleyan University Men's Golf at NCAA Region V Showcase 5th of 20
SUMMARY:Ohio Wesleyan University Men's Golf at NCAA Region V Showcase
DTSTART:20240922
DTEND:20240922
END:VEVENT
END:VCALENDAR
