BEGIN:VCALENDAR
VERSION:2.0
PRODID:-//hacksw/handcal//NONSGML v1.0//EN
CALSCALE:GREGORIAN
BEGIN:VEVENT
UID:69ed2154ceffe
DTSTAMP:20260425T201724Z
DESCRIPTION:[N] Ohio Wesleyan University Men's Golf at NCAC championship first round https://www.battlingbishops.com/calendar.aspx?game_id=8801&amp\;sport_id=7
SUMMARY:Ohio Wesleyan University Men's Golf at NCAC championship
DTSTART:20240503T173000Z
DTEND:20240503T203000Z
END:VEVENT
END:VCALENDAR
