BEGIN:VCALENDAR
VERSION:2.0
PRODID:-//hacksw/handcal//NONSGML v1.0//EN
CALSCALE:GREGORIAN
BEGIN:VEVENT
UID:69ed0a433c0b8
DTSTAMP:20260425T183859Z
DESCRIPTION:[N] Ohio Wesleyan University Men's Golf at NCAC championship second round https://www.battlingbishops.com/calendar.aspx?game_id=8956&amp\;sport_id=7
SUMMARY:Ohio Wesleyan University Men's Golf at NCAC championship
DTSTART:20240504T165000Z
DTEND:20240504T195000Z
END:VEVENT
END:VCALENDAR
