BEGIN:VCALENDAR
VERSION:2.0
PRODID:-//hacksw/handcal//NONSGML v1.0//EN
CALSCALE:GREGORIAN
BEGIN:VEVENT
UID:69ecf659c997d
DTSTAMP:20260425T171401Z
DESCRIPTION:[N] Ohio Wesleyan University Men's Golf at NCAC championship 7th of 8 https://www.battlingbishops.com/calendar.aspx?game_id=8957&amp\;sport_id=7
SUMMARY:Ohio Wesleyan University Men's Golf at NCAC championship
DTSTART:20240505T161000Z
DTEND:20240505T191000Z
END:VEVENT
END:VCALENDAR
