BEGIN:VCALENDAR
VERSION:2.0
PRODID:-//hacksw/handcal//NONSGML v1.0//EN
CALSCALE:GREGORIAN
BEGIN:VEVENT
UID:69e9e750d8bdd
DTSTAMP:20260423T093304Z
DESCRIPTION:[N] Ohio Wesleyan University Men's Golf at Ted Barclay Invitational first round
SUMMARY:Ohio Wesleyan University Men's Golf at Ted Barclay Invitational
DTSTART:20240831
DTEND:20240831
END:VEVENT
END:VCALENDAR
