BEGIN:VCALENDAR
VERSION:2.0
PRODID:-//hacksw/handcal//NONSGML v1.0//EN
CALSCALE:GREGORIAN
BEGIN:VEVENT
UID:69e9d56c4ce9d
DTSTAMP:20260423T081644Z
DESCRIPTION:[N] Ohio Wesleyan University Men's Golf at Ted Barclay Invitational 8th of 10
SUMMARY:Ohio Wesleyan University Men's Golf at Ted Barclay Invitational
DTSTART:20240901
DTEND:20240901
END:VEVENT
END:VCALENDAR
