BEGIN:VCALENDAR
VERSION:2.0
PRODID:-//hacksw/handcal//NONSGML v1.0//EN
CALSCALE:GREGORIAN
BEGIN:VEVENT
UID:69ebf8ae08fdf
DTSTAMP:20260424T231142Z
DESCRIPTION:[N] Ohio Wesleyan University Men's Golf at Wabash College Invitational first day https://www.battlingbishops.com/calendar.aspx?game_id=8512&amp\;sport_id=7
SUMMARY:Ohio Wesleyan University Men's Golf at Wabash College Invitational
DTSTART:20231009T130000Z
DTEND:20231009T160000Z
END:VEVENT
END:VCALENDAR
