BEGIN:VCALENDAR
VERSION:2.0
PRODID:-//hacksw/handcal//NONSGML v1.0//EN
CALSCALE:GREGORIAN
BEGIN:VEVENT
UID:69ebe2ef6e308
DTSTAMP:20260424T213855Z
DESCRIPTION:[N] Ohio Wesleyan University Men's Golf at Wabash College Invitational 10th of 14 https://www.battlingbishops.com/calendar.aspx?game_id=8513&amp\;sport_id=7
SUMMARY:Ohio Wesleyan University Men's Golf at Wabash College Invitational
DTSTART:20231010T140000Z
DTEND:20231010T170000Z
END:VEVENT
END:VCALENDAR
