BEGIN:VCALENDAR
VERSION:2.0
PRODID:-//hacksw/handcal//NONSGML v1.0//EN
CALSCALE:GREGORIAN
BEGIN:VEVENT
UID:69eb76ff3ed8a
DTSTAMP:20260424T135823Z
DESCRIPTION:[N] Ohio Wesleyan University Men's Golf at Wittenberg Fall Classic 4th of 12 https://www.battlingbishops.com/calendar.aspx?game_id=8500&amp\;sport_id=7
SUMMARY:Ohio Wesleyan University Men's Golf at Wittenberg Fall Classic
DTSTART:20231016
DTEND:20231016
END:VEVENT
END:VCALENDAR
