BEGIN:VCALENDAR
VERSION:2.0
PRODID:-//hacksw/handcal//NONSGML v1.0//EN
CALSCALE:GREGORIAN
BEGIN:VEVENT
UID:69e73d9ba8869
DTSTAMP:20260421T090427Z
DESCRIPTION:[N] Ohio Wesleyan University Men's Golf vs NCAC championship second round https://www.battlingbishops.com/calendar.aspx?game_id=8183&amp\;sport_id=7
SUMMARY:Ohio Wesleyan University Men's Golf vs NCAC championship
DTSTART:20230429T160000Z
DTEND:20230429T190000Z
END:VEVENT
END:VCALENDAR
