BEGIN:VCALENDAR
VERSION:2.0
PRODID:-//hacksw/handcal//NONSGML v1.0//EN
CALSCALE:GREGORIAN
BEGIN:VEVENT
UID:69ed684f60f40
DTSTAMP:20260426T012015Z
DESCRIPTION:[L] Ohio Wesleyan University Men's Lacrosse at StevensonL 14-19Streaming Video: https://team1sports.com/gomustangsports/
SUMMARY:Ohio Wesleyan University Men's Lacrosse at Stevenson
DTSTART:20250207T220000Z
DTEND:20250208T010000Z
END:VEVENT
END:VCALENDAR
