BEGIN:VCALENDAR
VERSION:2.0
PRODID:-//hacksw/handcal//NONSGML v1.0//EN
CALSCALE:GREGORIAN
BEGIN:VEVENT
UID:69ed3765b34bc
DTSTAMP:20260425T215133Z
DESCRIPTION:[L] Ohio Wesleyan University Men's Lacrosse vs KenyonL 12-13Streaming Video: https://www.northcoastnetwork.com/ohiowesleyan/ https://www.battlingbishops.com/calendar.aspx?game_id=8886&amp\;sport_id=8
SUMMARY:Ohio Wesleyan University Men's Lacrosse vs Kenyon
DTSTART:20240502T230000Z
DTEND:20240503T020000Z
END:VEVENT
END:VCALENDAR
