BEGIN:VCALENDAR
VERSION:2.0
PRODID:-//hacksw/handcal//NONSGML v1.0//EN
CALSCALE:GREGORIAN
BEGIN:VEVENT
UID:69ecf8d4990ba
DTSTAMP:20260425T172436Z
DESCRIPTION:Ohio Wesleyan University Men's Lacrosse vs NCAC tournament championship https://www.battlingbishops.com/calendar.aspx?game_id=8887&amp\;sport_id=8
SUMMARY:Ohio Wesleyan University Men's Lacrosse vs NCAC tournament championship
DTSTART:20240505
DTEND:20240505
END:VEVENT
END:VCALENDAR
