BEGIN:VCALENDAR
VERSION:2.0
PRODID:-//hacksw/handcal//NONSGML v1.0//EN
CALSCALE:GREGORIAN
BEGIN:VEVENT
UID:69e85af8a6405
DTSTAMP:20260422T052200Z
DESCRIPTION:[W] Ohio Wesleyan University Men's Lacrosse vs WittenbergW 25-8Streaming Video: https://portal.stretchinternet.com/owu/ For more information: https://www.battlingbishops.com/calendar.aspx?id=7642
SUMMARY:Ohio Wesleyan University Men's Lacrosse vs Wittenberg
DTSTART:20220402T160000Z
DTEND:20220402T190000Z
END:VEVENT
END:VCALENDAR
