BEGIN:VCALENDAR
VERSION:2.0
PRODID:-//hacksw/handcal//NONSGML v1.0//EN
CALSCALE:GREGORIAN
BEGIN:VEVENT
UID:69ed21005a274
DTSTAMP:20260425T201600Z
DESCRIPTION:[W] Ohio Wesleyan University Men's Soccer at CapitalW 4-0Streaming Video: https://athletics.capital.edu/sports/2020/9/18/channel-msoc.aspx?id=1230 https://www.battlingbishops.com/calendar.aspx?game_id=8457&amp\;sport_id=9
SUMMARY:Ohio Wesleyan University Men's Soccer at Capital
DTSTART:20230926T230000Z
DTEND:20230927T010000Z
END:VEVENT
END:VCALENDAR
