BEGIN:VCALENDAR
VERSION:2.0
PRODID:-//hacksw/handcal//NONSGML v1.0//EN
CALSCALE:GREGORIAN
BEGIN:VEVENT
UID:69e8411355f09
DTSTAMP:20260422T033131Z
DESCRIPTION:[L] Ohio Wesleyan University Men's Soccer at Carnegie MellonL 1-2Streaming Video: https://athletics.cmu.edu/watchlive
SUMMARY:Ohio Wesleyan University Men's Soccer at Carnegie Mellon
DTSTART:20240921T173000Z
DTEND:20240921T193000Z
END:VEVENT
END:VCALENDAR
