BEGIN:VCALENDAR
VERSION:2.0
PRODID:-//hacksw/handcal//NONSGML v1.0//EN
CALSCALE:GREGORIAN
BEGIN:VEVENT
UID:69e94bbf41b35
DTSTAMP:20260422T222919Z
DESCRIPTION:[L] Ohio Wesleyan University Men's Soccer at ChicagoL 1-2Streaming Video: https://athletics.uchicago.edu/sports/2023/7/21/m-soccer-live-video.aspx https://www.battlingbishops.com/calendar.aspx?game_id=8740&amp\;sport_id=9
SUMMARY:Ohio Wesleyan University Men's Soccer at Chicago
DTSTART:20231112T190000Z
DTEND:20231112T210000Z
END:VEVENT
END:VCALENDAR
