BEGIN:VCALENDAR
VERSION:2.0
PRODID:-//hacksw/handcal//NONSGML v1.0//EN
CALSCALE:GREGORIAN
BEGIN:VEVENT
UID:69e767ffab644
DTSTAMP:20260421T120519Z
DESCRIPTION:[T] Ohio Wesleyan University Men's Soccer at DenisonT 0-0Streaming Video: https://www.northcoastnetwork.com/denison/
SUMMARY:Ohio Wesleyan University Men's Soccer at Denison
DTSTART:20241102T193000Z
DTEND:20241102T213000Z
END:VEVENT
END:VCALENDAR
